BEGIN:VCALENDAR
VERSION:2.0
PRODID:-//NMC67//NONSGML kigkonsult.se iCalcreator 2.41.92//
CALSCALE:GREGORIAN
METHOD:PUBLISH
UID:36393562-6435-4332-a231-326165313837
X-WR-CALNAME:iCagenda
X-WR-CALDESC:Event Management Extension for Joomla!
X-WR-RELCALID:3E26604A-50F4-4449-8B3E-E4F4932D05B5
X-WR-TIMEZONE:Europe/Amsterdam
BEGIN:VTIMEZONE
TZID:Europe/Amsterdam
TZUNTIL:20280326T010000Z
BEGIN:STANDARD
TZNAME:CET
DTSTART:20251026T030000
TZOFFSETFROM:+0200
TZOFFSETTO:+0100
RDATE:20261025T030000
RDATE:20271031T030000
END:STANDARD
BEGIN:DAYLIGHT
TZNAME:CEST
DTSTART:20260329T020000
TZOFFSETFROM:+0100
TZOFFSETTO:+0200
RDATE:20270328T020000
END:DAYLIGHT
END:VTIMEZONE
BEGIN:VEVENT
UID:61346339-3130-4361-a230-663032346665
DTSTAMP:20260420T150003Z
CATEGORIES:Expositions
CLASS:PUBLIC
DESCRIPTION;ALTREP="CID:<FFFF__=0ABBE548DFE235B58f9e8a93d@coffeebean.com>":
 Exposition et navigation dans le cadre des flaneries.\n 
DTSTART:20260509T220000Z
DTEND:20260509T220000Z
GEO:00;0
LOCATION:
ORGANIZER;CN=:mailto:president@nmc67.fr
SEQUENCE:1
SUMMARY:Flâneries de Reichshoffen
TRANSP:OPAQUE
URL:https://www.nmc67.fr/index.php/agenda/15-flaneries-de-reichshoffen/2026
 -05-10-00-00
END:VEVENT
END:VCALENDAR
