BEGIN:VCALENDAR
VERSION:2.0
PRODID:-//NMC67//NONSGML kigkonsult.se iCalcreator 2.41.92//
CALSCALE:GREGORIAN
METHOD:PUBLISH
UID:33373364-3963-4636-b265-313062643264
X-WR-CALNAME:iCagenda
X-WR-CALDESC:Event Management Extension for Joomla!
X-WR-RELCALID:3E26604A-50F4-4449-8B3E-E4F4932D05B5
X-WR-TIMEZONE:Europe/Amsterdam
BEGIN:VTIMEZONE
TZID:Europe/Amsterdam
TZUNTIL:20271031T010000Z
BEGIN:STANDARD
TZNAME:CET
DTSTART:20251026T030000
TZOFFSETFROM:+0200
TZOFFSETTO:+0100
RDATE:20261025T030000
END:STANDARD
BEGIN:DAYLIGHT
TZNAME:CEST
DTSTART:20260329T020000
TZOFFSETFROM:+0100
TZOFFSETTO:+0200
RDATE:20270328T020000
END:DAYLIGHT
END:VTIMEZONE
BEGIN:VEVENT
UID:37396332-6364-4132-b530-623238636161
DTSTAMP:20260420T132700Z
CATEGORIES:Expositions
CLASS:PUBLIC
DESCRIPTION;ALTREP="CID:<FFFF__=0ABBE548DFE235B58f9e8a93d@coffeebean.com>":
 Exposition multi-modélisme à l'Espace Cuirassiers.
DTSTART:20260403T230000Z
DTEND:20260405T220000Z
GEO:00;0
LOCATION:Espace Cuirassiers
ORGANIZER;CN=:mailto:president@nmc67.fr
SEQUENCE:1
SUMMARY:Reichshoffen Model's Expo
TRANSP:OPAQUE
URL:https://www.nmc67.fr/index.php/agenda/22-reichshoffen-model-s-expo
END:VEVENT
END:VCALENDAR
