BEGIN:VCALENDAR
VERSION:2.0
PRODID:-//NMC67//NONSGML kigkonsult.se iCalcreator 2.41.92//
CALSCALE:GREGORIAN
METHOD:PUBLISH
UID:38646661-3930-4232-b932-303565643338
X-WR-CALNAME:iCagenda
X-WR-CALDESC:Event Management Extension for Joomla!
X-WR-RELCALID:3E26604A-50F4-4449-8B3E-E4F4932D05B5
X-WR-TIMEZONE:Europe/Amsterdam
BEGIN:VTIMEZONE
TZID:Europe/Amsterdam
TZUNTIL:20271031T010000Z
BEGIN:STANDARD
TZNAME:CET
DTSTART:20251026T030000
TZOFFSETFROM:+0200
TZOFFSETTO:+0100
RDATE:20261025T030000
END:STANDARD
BEGIN:DAYLIGHT
TZNAME:CEST
DTSTART:20250330T020000
TZOFFSETFROM:+0100
TZOFFSETTO:+0200
RDATE:20260329T020000
RDATE:20270328T020000
END:DAYLIGHT
END:VTIMEZONE
BEGIN:VEVENT
UID:61663938-3433-4632-a436-626636663464
DTSTAMP:20260420T145955Z
CATEGORIES:Expositions
CLASS:PUBLIC
DESCRIPTION;ALTREP="CID:<FFFF__=0ABBE548DFE235B58f9e8a93d@coffeebean.com>":
 Modélistes de la région venez vendre tout le matériel que vous n’utilisez 
 plus à la Bourse de Modélisme franco-allemande organisée par le S.P.M.C. C
 ette bourse s’adresse aussi bien aux particuliers qu’aux professionnels.\n
 Des tables seront mises à disposition des vendeurs. Une buvette ainsi qu’u
 ne petite restauration seront accessibles durant cette journée.\nParlez-en
  autour de vous\, faites de la pub\, postez cette manifestation dans les f
 orums que vous fréquentez. C’est avec la mobilisation de chacun que nous f
 erons de cette première bourse une réussite pour tous.
DTSTART:20260301T080000Z
DTEND:20260301T080000Z
GEO:00;0
LOCATION:Salle des fêtes de Plobsheim
ORGANIZER:
SEQUENCE:1
SUMMARY:9 ème bourse de modélisme au SPMC
TRANSP:OPAQUE
URL:https://www.nmc67.fr/index.php/agenda/24-premiere-bourse-de-modelisme-a
 u-spmc/2026-03-01-09-00
END:VEVENT
END:VCALENDAR
