BEGIN:VCALENDAR
VERSION:2.0
PRODID:-//NMC67//NONSGML kigkonsult.se iCalcreator 2.41.92//
CALSCALE:GREGORIAN
METHOD:PUBLISH
UID:38303635-3431-4635-b166-363865363638
X-WR-CALNAME:iCagenda
X-WR-CALDESC:Event Management Extension for Joomla!
X-WR-RELCALID:3E26604A-50F4-4449-8B3E-E4F4932D05B5
X-WR-TIMEZONE:Europe/Amsterdam
BEGIN:VTIMEZONE
TZID:Europe/Amsterdam
TZUNTIL:20281029T010000Z
BEGIN:STANDARD
TZNAME:CET
DTSTART:20261025T030000
TZOFFSETFROM:+0200
TZOFFSETTO:+0100
RDATE:20271031T030000
END:STANDARD
BEGIN:DAYLIGHT
TZNAME:CEST
DTSTART:20260329T020000
TZOFFSETFROM:+0100
TZOFFSETTO:+0200
RDATE:20270328T020000
RDATE:20280326T020000
END:DAYLIGHT
END:VTIMEZONE
BEGIN:VEVENT
UID:33303334-3631-4462-a662-626432633931
DTSTAMP:20260424T100747Z
CATEGORIES:Navigations
CLASS:PUBLIC
DESCRIPTION:
DTSTART:20261107T130000Z
DTEND:20261107T130000Z
GEO:00;0
LOCATION:Étangs de pêche Holtzheim
ORGANIZER:
SEQUENCE:1
SUMMARY:Navigation étang de Holtzheim
TRANSP:OPAQUE
URL:https://www.nmc67.fr/index.php/agenda/44-navigation-etang-de-holtzheim/
 2026-11-07-14-00
END:VEVENT
END:VCALENDAR
