BEGIN:VCALENDAR
VERSION:2.0
PRODID:-//NMC67//NONSGML kigkonsult.se iCalcreator 2.41.92//
CALSCALE:GREGORIAN
METHOD:PUBLISH
UID:31303336-6430-4162-a631-356332393336
X-WR-CALNAME:iCagenda
X-WR-CALDESC:Event Management Extension for Joomla!
X-WR-RELCALID:3E26604A-50F4-4449-8B3E-E4F4932D05B5
X-WR-TIMEZONE:Europe/Amsterdam
BEGIN:VTIMEZONE
TZID:Europe/Amsterdam
TZUNTIL:20271031T010000Z
BEGIN:STANDARD
TZNAME:CET
DTSTART:20251026T030000
TZOFFSETFROM:+0200
TZOFFSETTO:+0100
RDATE:20261025T030000
END:STANDARD
BEGIN:DAYLIGHT
TZNAME:CEST
DTSTART:20250330T020000
TZOFFSETFROM:+0100
TZOFFSETTO:+0200
RDATE:20260329T020000
RDATE:20270328T020000
END:DAYLIGHT
END:VTIMEZONE
BEGIN:VEVENT
UID:38623662-6561-4933-a162-366235353333
DTSTAMP:20260420T162904Z
CATEGORIES:Expositions
CLASS:PUBLIC
DESCRIPTION;ALTREP="CID:<FFFF__=0ABBE548DFE235B58f9e8a93d@coffeebean.com>":
 Petits et grands\, venez découvrir\, pour la première fois au Point d'Eau\
 , le monde enchanté du modélisme\, décliné dans de nombreux thèmes.\nMy Li
 ttle World vous transportera\, le temps d'un instant\, au pays de l’infini
 ment petit\, au gré des réalisations des nombreux collectionneurs et clubs
  qui seront présents (Réseaux ferroviaires\, bateaux\, voitures\, dioramas
 \, figurines et biens d'autres).\nRetrouvez également de nombreuses animat
 ions tout au long du week-end.\nPetite restauration sur place - Bar\n-----
 -------Informations pratiques :PAF. : 3€/jour (uniquement en caisse du jou
 r)Entrée gratuite pour les enfants de moins de 8 ans (accompagné d’un adul
 te)Accès :Parking gratuit devant le Point d'EauTram Ligne B &gt\; Arrêt : 
 Ostwald Hôtel de Ville (20min depuis Homme de Fer)Bus Ligne 13 &gt\; Arrêt
  : Ostwald Hôtel de Ville
DTSTART:20260221T090000Z
DTEND:20260222T170000Z
GEO:00;0
LOCATION:Le Point d’Eau - Ostwald
ORGANIZER:
SEQUENCE:1
SUMMARY:My Little World 2024
TRANSP:OPAQUE
URL:https://www.nmc67.fr/index.php/agenda/52-my-little-world-2023
END:VEVENT
END:VCALENDAR
