BEGIN:VCALENDAR
VERSION:2.0
PRODID:-//NMC67//NONSGML kigkonsult.se iCalcreator 2.41.92//
CALSCALE:GREGORIAN
METHOD:PUBLISH
UID:62643864-3636-4135-b532-373738626331
X-WR-CALNAME:iCagenda
X-WR-CALDESC:Event Management Extension for Joomla!
X-WR-RELCALID:3E26604A-50F4-4449-8B3E-E4F4932D05B5
X-WR-TIMEZONE:Europe/Amsterdam
BEGIN:VTIMEZONE
TZID:Europe/Amsterdam
TZUNTIL:20261025T010000Z
BEGIN:STANDARD
TZNAME:CET
DTSTART:20241027T030000
TZOFFSETFROM:+0200
TZOFFSETTO:+0100
RDATE:20251026T030000
END:STANDARD
BEGIN:DAYLIGHT
TZNAME:CEST
DTSTART:20240331T020000
TZOFFSETFROM:+0100
TZOFFSETTO:+0200
RDATE:20250330T020000
RDATE:20260329T020000
END:DAYLIGHT
END:VTIMEZONE
BEGIN:VEVENT
UID:36373036-3631-4736-a265-323135386633
DTSTAMP:20260420T174451Z
CATEGORIES:Navigations
CLASS:PUBLIC
DESCRIPTION:
DTSTART:20250208T130000Z
DTEND:20250208T130000Z
GEO:00;0
LOCATION:Gravière du Fort
ORGANIZER;CN=:mailto:president@nmc67.fr
SEQUENCE:1
SUMMARY:Navigation Gravière du Fort
TRANSP:OPAQUE
URL:https://www.nmc67.fr/index.php/agenda/6-na-vigation-graviere-du-fort/20
 25-02-08-14-00
END:VEVENT
END:VCALENDAR
